BEGIN:VCALENDAR
VERSION:2.0
CALSCALE:GREGORIAN
PRODID:-//MyApp//Calendar 1.0//EN
BEGIN:VEVENT
METHOD:PUBLISH
UID:59802@regionalniportaly.cz
DTSTAMP:20260422T101740Z
DTSTART;VALUE=DATE:20251206
DTEND;VALUE=DATE:20251207
SUMMARY:Adventní koncert v rajhradském klášteře
DESCRIPTION:\nsobota 6. 12. 2025 v 17:00\nKapitulní kaple Benediktinského opatství v Rajhradě\, Klášter 1\nCastello in Aria\, umělecký vedoucí Vít Bébar\n\nKdyž se čas zpomalí a v srdci se rozhostí očekávání\, přichází hudba\, která rozevírá nebe... Ansámbl Castello in Aria vás zve do Rajhradu na program Ave Rosa in Jericho\, v němž zazní skladby určené právě pro tyto adventní dny. Na kopie dobových nástrojů ožijí díla Jana Josefa Božana\, Václava Karla Holana Rovenského\, Adama Václava Michny z Otradovic\, Johanna Sebastiana Bacha\, Heinricha Schütze\, Maurizia Cazzatiho a Daria Castella\, na jehož dílo odkazuje i jméno souboru.
LOCATION:Rajhrad
END:VEVENT
END:VCALENDAR