BEGIN:VCALENDAR
VERSION:2.0
CALSCALE:GREGORIAN
PRODID:-//MyApp//Calendar 1.0//EN
BEGIN:VEVENT
METHOD:PUBLISH
UID:59406@regionalniportaly.cz
DTSTAMP:20260422T005648Z
DTSTART;VALUE=DATE:20260124
DTEND;VALUE=DATE:20260125
SUMMARY:Havajská party pro děti ve stylu pohádky Lilo & Stitch
DESCRIPTION:Zveme všechny malé děti a také dospěláky na premiéru naší zcela nové Havajské party pro děti ve stylu pohádky Lilo a Stitch\, která se uskuteční v sobotu 24.ledna 2026 ve vnitřních prostorách koupaliště Města Židlochovice&nbsp\;Venku vládne zima a my jsme si pro děti připravili úžasnou letní party plnou krásných havajských a plážových dekorací. Těšit se můžete na obří nafukovací totemy\, palmy\, plameňáky\, papoušky a další krásné dekorace\, které děti dozajisté uchvátí a přeneseme se na vyhřátou havajskou pláž&nbsp\;Hlavními hvězdami této party bude bláznivý Stitch a jeho kamarádka Lilo\, kterou pro děti představíme úplně poprvé&nbsp\;. Dále se děti mohou těšit na krále Jelimána\, zaječici Judy a další 2 kamarády&nbsp\;&nbsp\;Diskotéka s postavičkami&nbsp\;Spousta krásných havajských dekorací&nbsp\;Pro prvních 80 dětí havajský květinový věnec zdarma&nbsp\;Malování na obličej ... placené&nbsp\;Havajský fotokoutek se spoustou bláznivých doplňků&nbsp\;Výrobníky bublin&nbsp\;Focení s postavičkami&nbsp\;Focení s obřím banánem&nbsp\;&nbsp\;Soutěže o Stitchovi dárečky&nbsp\;Soutěž o nejlepší kostým ve stylu Havaje\, pláže\, Stitche a Lilo&nbsp\;Obchůdek s dárečky&nbsp\;Občerstvení - (párky v rohlíku\, hranolky\, sladkosti a brambůrky a teplé nápoje... a další překvápka&nbsp\;VSTUPNÉ:V předprodeji do 23.1.2026 - 150 Kč / osobaNa místě 200 Kč / osobaděti do 1 roku vstup zdarmaUPOZORŇUJEME : Kapacita prostoru je omezena a v předprodeji bude pouze 250 vstupenek.Pokud se vstupenky vyprodají\, na místě vstupenky již nebudou. Doporučujeme tedy vstupenky zakoupit v předstihu&nbsp\;Prostory nejsou vhodné pro kočárky.Platba pouze v hotovosti.&nbsp\;Prostory budou otevřeny již od 13:15Hlavní program odstartuje ve 14:00Akci pořádá diskoproděti ve spolupráci s koupalištěm Města Židlochovice ... těšíme se na všechny malé kamarády&nbsp\;&nbsp\;
LOCATION:Vojkovice
END:VEVENT
END:VCALENDAR