BEGIN:VCALENDAR
VERSION:2.0
CALSCALE:GREGORIAN
PRODID:-//MyApp//Calendar 1.0//EN
BEGIN:VEVENT
METHOD:PUBLISH
UID:59402@regionalniportaly.cz
DTSTAMP:20260422T083824Z
DTSTART;VALUE=DATE:20251114
DTEND;VALUE=DATE:20251115
SUMMARY:Něco za něco
DESCRIPTION:
LOCATION:Měnín
END:VEVENT
END:VCALENDAR