BEGIN:VCALENDAR
VERSION:2.0
CALSCALE:GREGORIAN
PRODID:-//MyApp//Calendar 1.0//EN
BEGIN:VEVENT
METHOD:PUBLISH
UID:59397@regionalniportaly.cz
DTSTAMP:20260422T083718Z
DTSTART;VALUE=DATE:20251107
DTEND;VALUE=DATE:20251108
SUMMARY:Jedna bitva za druhou
DESCRIPTION:
LOCATION:Měnín
END:VEVENT
END:VCALENDAR