BEGIN:VCALENDAR
VERSION:2.0
CALSCALE:GREGORIAN
PRODID:-//MyApp//Calendar 1.0//EN
BEGIN:VEVENT
METHOD:PUBLISH
UID:58318@regionalniportaly.cz
DTSTAMP:20260422T151032Z
DTSTART;VALUE=DATE:20251010
DTEND;VALUE=DATE:20251011
SUMMARY:Websterovi: Příběhy na pavoučím vlákně
DESCRIPTION:
LOCATION:Měnín
END:VEVENT
END:VCALENDAR