BEGIN:VCALENDAR
VERSION:2.0
CALSCALE:GREGORIAN
PRODID:-//MyApp//Calendar 1.0//EN
BEGIN:VEVENT
METHOD:PUBLISH
UID:58312@regionalniportaly.cz
DTSTAMP:20260424T154855Z
DTSTART;VALUE=DATE:20251003
DTEND;VALUE=DATE:20251004
SUMMARY:Džob
DESCRIPTION:
LOCATION:Měnín
END:VEVENT
END:VCALENDAR