BEGIN:VCALENDAR
VERSION:2.0
CALSCALE:GREGORIAN
PRODID:-//MyApp//Calendar 1.0//EN
BEGIN:VEVENT
METHOD:PUBLISH
UID:58307@regionalniportaly.cz
DTSTAMP:20260424T143358Z
DTSTART;VALUE=DATE:20251010
DTEND;VALUE=DATE:20251011
SUMMARY:Čelisti - 50. výročí
DESCRIPTION:Padesát let poté\, co Steven Spielberg stvořil první typicky letní blockbuster\, se jeho legendární Čelisti vracejí do kin. Velký žralok\, velké plátno a velké odhodlání trojice mužů\, která se ho snaží zabít\, aby dál neterorizoval přímořské městečko Amity.
LOCATION:Měnín
END:VEVENT
END:VCALENDAR