BEGIN:VCALENDAR
VERSION:2.0
CALSCALE:GREGORIAN
PRODID:-//MyApp//Calendar 1.0//EN
BEGIN:VEVENT
METHOD:PUBLISH
UID:57032@regionalniportaly.cz
DTSTAMP:20260422T181239Z
DTSTART;VALUE=DATE:20250828
DTEND;VALUE=DATE:20250829
SUMMARY:Networking TEA Rajhrad / host Eva Králová
DESCRIPTION:Networking Tea: Inspirativní setkání (nejen) pro rodiče s dětmi&nbsp\;Navazujeme na úspěšný koncept Networking Coffee Rajhrad a rozšiřujeme ho o setkání vhodná i pro rodiče s dětmi (primárně 0–4 roky). Vítáme ale i účastníky bez doprovodu dětí\, které zajímá téma či host.Host: Eva Králová z EK Mediace - popovídá si s námi na téma "Malý a velký začátek" pro budoucí školkáčky\, školáčky i nás rodiče. Jak dítěti pomoci zvládnout změnu v prvních týdnech školky/školy? Jak sledovat adaptaci? A mnohé další. Ale i jak opečovat sama sebe\, dát si čas a dovolit ostatním\, aby byli nápomocní? A jak s laskavostí nastavit hranice a požádat o spolupráci prarodiče?Networking začíná v 9:30\, scházet se je možné od 9:00\, a to přímo v kavárně Slunečnice\, kterou najdete v areálu Oblastní charity Rajhrad. Vstupenky lze zakoupit napsání zprávy na Kačka Eichi Bilíková či Lucka Bulová či přes SMS ticket - viz vstupenky.Program:09:00 - 09:30 - příchod09:30 - 10:00 - představení všech účastníků networkingu10:00 - 11:00 - workshop s Evčou Královou11:00 - 11:30 - volný networking\, rozloučeníV případě velkého zájmu rádi přidáme další termín. Pokud byste měli zájem o odpolední termín\, dejte nám prosím vědět na katka@kavateam.cz nebo telefonicky na 777 668 139.Těší se na vás Kačka Eichi Bilíková\, Lucka Bulová a Evča Králová&nbsp\;
LOCATION:Rajhrad
END:VEVENT
END:VCALENDAR