BEGIN:VCALENDAR
VERSION:2.0
CALSCALE:GREGORIAN
PRODID:-//MyApp//Calendar 1.0//EN
BEGIN:VEVENT
METHOD:PUBLISH
UID:56928@regionalniportaly.cz
DTSTAMP:20260422T133440Z
DTSTART;VALUE=DATE:20250926
DTEND;VALUE=DATE:20250927
SUMMARY:Odvážná Emma
DESCRIPTION:
LOCATION:Měnín
END:VEVENT
END:VCALENDAR