BEGIN:VCALENDAR
VERSION:2.0
CALSCALE:GREGORIAN
PRODID:-//MyApp//Calendar 1.0//EN
BEGIN:VEVENT
METHOD:PUBLISH
UID:56925@regionalniportaly.cz
DTSTAMP:20260422T134725Z
DTSTART;VALUE=DATE:20250912
DTEND;VALUE=DATE:20250913
SUMMARY:Sbormistr
DESCRIPTION:
LOCATION:Měnín
END:VEVENT
END:VCALENDAR