BEGIN:VCALENDAR
VERSION:2.0
CALSCALE:GREGORIAN
PRODID:-//MyApp//Calendar 1.0//EN
BEGIN:VEVENT
METHOD:PUBLISH
UID:56382@regionalniportaly.cz
DTSTAMP:20260422T061056Z
DTSTART;VALUE=DATE:20251018
DTEND;VALUE=DATE:20251019
SUMMARY:Strašidelný Halloween pro děti
DESCRIPTION:Zveme všechny malé děti a také dospěláky na čtvrtý ročník oblíbené velké Halloweenské party pro děti\, která se uskuteční v sobotu 18.10. ve venkovním areálu na koupališti Města Židlochovice&nbsp\;Připraven máme opět bohatý program s velkou strašidelňáckou diskotékou\, na kterou dorazí spousta našich u dětí nejoblíbenější pohádkových postaviček ježek Sonic\, lev Alex\, Minnie\, Goofy\, Grinch\, Wednesday\, kostlivec a Chase\, Skye a Rocky z Tlapkové patroly&nbsp\;A hlavně představíme naše úplně nové kamarády&nbsp\;Stitche\, Labubáka\, Miguela z pohádky Coco\, strýčka Skrblíka z kačerova\, taťku šmoulu a zaječici Judy z pohádky Zootropolis&nbsp\;&nbsp\;A co nás ještě čeká:Diskotéka s postavičkami v prostoru u bazénůSpousta strašidelných dekorací v celém areáleVelká terasa s posezením a baremProcházka strašidelným hrademMalování na obličej ... placenéPrůlezková pirátská loď a dětské hřištědětská dvojlanovkaOhniště s opékáním špekáčkůSkákací hrad tlapková patrolaNafukovací skluzavka MdagascarMini farma se zvířátkyFocení se strašidly v areáluStrašidelný fotokoutekSněhová vániceSoutěže o dárkySoutěž o nejlepší masku/kostýmObchůdek s dárečkyObčerstvení - (párky v rohlíku\, hranolky\, sladkosti a brambůrky\, teplé nápoje pro děti i dospělé)&nbsp\;... a další překvápkaVSTUPNÉ:do 30.9. 100 Kč / osoba ( pouze 400 ks )do 19.10 - 150 Kč / osobana místě 200 Kč / osobaděti do 1 roku vstup zdarmaAreál bude otevřen již od 13:00Hlavní program u bazénů startuje v 14:30Akci pořádá Diskoproděti ve spolupráci s koupalištěm Města Židlochovice ... těšíme se na všechny malé strašidla a bubáky&nbsp\;
LOCATION:Vojkovice
END:VEVENT
END:VCALENDAR