BEGIN:VCALENDAR
VERSION:2.0
CALSCALE:GREGORIAN
PRODID:-//MyApp//Calendar 1.0//EN
BEGIN:VEVENT
METHOD:PUBLISH
UID:55894@regionalniportaly.cz
DTSTAMP:20260422T145723Z
DTSTART;VALUE=DATE:20250725
DTEND;VALUE=DATE:20250726
SUMMARY:Vlny - Letní kino
DESCRIPTION:
LOCATION:Otmarov
END:VEVENT
END:VCALENDAR