BEGIN:VCALENDAR
VERSION:2.0
CALSCALE:GREGORIAN
PRODID:-//MyApp//Calendar 1.0//EN
BEGIN:VEVENT
METHOD:PUBLISH
UID:55598@regionalniportaly.cz
DTSTAMP:20260423T111938Z
DTSTART;VALUE=DATE:20250712
DTEND;VALUE=DATE:20250713
SUMMARY:Meruňkobraní 2025
DESCRIPTION:Nenechte si ujít 10. ročníku festivalu meruněk v Židlochovicích.\nNáměstí\nOblíbené soutěže v pojídání knedlíků a pro děti v půlení meruněk\, řemeslný jarmark\, posezení ve stínu dvou obřích stanů nabídne náměstí Míru. Prostor pro food zonu\, která bude lákat nabídkou knedlíků\, meruňkových jídel ve stylu finger food\, miniburgerů a spousty dalších. Bohatým celodenním programem vás provede Markéta Hrubešová a zakončí jej koncert Igora Orozoviče.\nGastozóna\nVaření s celebritami v prostorách stodoly Komunitního centra vás přiláká nebeskými vůněmi Besky\, stejně jako lokální vinařská zóna a kreativní meruňková menu místních restaurací.\nDětská zóna\nProgram v zahradě Robertovy vily cílí na rodiny s dětmi. Nabídne aktivity pro relaxaci i sport\, pro větší i malé děti\, na své si přijdou i rodiče.\nPředprodej vstupenek na akci Meruňkobraní přes službu smsticket: \nVstupné v předprodeji: 1. - 30. června 2025\n\ndospělí - 150 Kč\nstudent / senior / ZTP - 80 Kč\nděti od 3 do 15 let - 60 Kč\nděti do 3 let / ZTP/P - zdarma\n\nVstupné v předprodeji: 1. - 12. července 2025\n\ndospělí - 200 Kč\nstudent / senior / ZTP - 100 Kč\nděti od 3 do 15 let - 70 Kč\nděti do 3 let / ZTP/P - zdarma\n\nVstupné na místě na pokladnách: 12. července 2025\n\ndospělí - 300 Kč\nstudent / senior / ZTP - 150 Kč\nděti od 3 do 15 let - 100 Kč\nděti do 3 let / ZTP/P - zdarma\n
LOCATION:Židlochovice
END:VEVENT
END:VCALENDAR