BEGIN:VCALENDAR
VERSION:2.0
CALSCALE:GREGORIAN
PRODID:-//MyApp//Calendar 1.0//EN
BEGIN:VEVENT
METHOD:PUBLISH
UID:54423@regionalniportaly.cz
DTSTAMP:20260422T145836Z
DTSTART;VALUE=DATE:20250627
DTEND;VALUE=DATE:20250628
SUMMARY:F1
DESCRIPTION:
LOCATION:Měnín
END:VEVENT
END:VCALENDAR