BEGIN:VCALENDAR
VERSION:2.0
CALSCALE:GREGORIAN
PRODID:-//MyApp//Calendar 1.0//EN
BEGIN:VEVENT
METHOD:PUBLISH
UID:53579@regionalniportaly.cz
DTSTAMP:20260422T124737Z
DTSTART;VALUE=DATE:20250516
DTEND;VALUE=DATE:20250517
SUMMARY:Jakub Vágner - Divoké kmeny
DESCRIPTION:Jakub Vágner vás vezme do míst\, kde žijí poslední divoké kmeny. Tato expedice vás zavede k indiánským kmenům Amazonského deštného pralesa\, ke kmeni EL-Molo na břehu jezera Afrického jezera Turkana\, Guinejským stromovým lidem Korowajům i posledním nespoutaným kmenům mrazivé Sibiře. Poznejte naše předky ještě než zmizí.
LOCATION:Měnín
END:VEVENT
END:VCALENDAR