BEGIN:VCALENDAR
VERSION:2.0
CALSCALE:GREGORIAN
PRODID:-//MyApp//Calendar 1.0//EN
BEGIN:VEVENT
METHOD:PUBLISH
UID:52768@regionalniportaly.cz
DTSTAMP:20260422T163044Z
DTSTART;VALUE=DATE:20250405
DTEND;VALUE=DATE:20250406
SUMMARY:Teta z Bruselu
DESCRIPTION:
LOCATION:Bratčice
END:VEVENT
END:VCALENDAR