BEGIN:VCALENDAR
VERSION:2.0
CALSCALE:GREGORIAN
PRODID:-//MyApp//Calendar 1.0//EN
BEGIN:VEVENT
METHOD:PUBLISH
UID:52394@regionalniportaly.cz
DTSTAMP:20260422T150935Z
DTSTART;VALUE=DATE:20250622
DTEND;VALUE=DATE:20250623
SUMMARY:Na kus řeči s Janou Paulovou
DESCRIPTION:Oblíbená herečka\, ale i cestovatelka a spisovatelka Jana Paulová se s Vámi podělí o své zážitky nejen z práce v divadle\, televizi nebo ve filmu... A představí knihu Jak běžet do kopce.
LOCATION:Měnín
END:VEVENT
END:VCALENDAR