BEGIN:VCALENDAR
VERSION:2.0
CALSCALE:GREGORIAN
PRODID:-//MyApp//Calendar 1.0//EN
BEGIN:VEVENT
METHOD:PUBLISH
UID:52331@regionalniportaly.cz
DTSTAMP:20260422T222908Z
DTSTART;VALUE=DATE:20250404
DTEND;VALUE=DATE:20250405
SUMMARY:Minecraft ve filmu
DESCRIPTION:
LOCATION:Měnín
END:VEVENT
END:VCALENDAR