BEGIN:VCALENDAR
VERSION:2.0
CALSCALE:GREGORIAN
PRODID:-//MyApp//Calendar 1.0//EN
BEGIN:VEVENT
METHOD:PUBLISH
UID:52322@regionalniportaly.cz
DTSTAMP:20260422T163218Z
DTSTART;VALUE=DATE:20250411
DTEND;VALUE=DATE:20250412
SUMMARY:Jarní koncert
DESCRIPTION:Vystoupí pěvecký sbor LumírDirigují František Ostrý\, Emil Skoták (j.h.)Po ránu o5 níž - veselé vokálně - instrumentální komorní uskupení pod vedením Kamily Zenkové
LOCATION:Měnín
END:VEVENT
END:VCALENDAR