BEGIN:VCALENDAR
VERSION:2.0
CALSCALE:GREGORIAN
PRODID:-//MyApp//Calendar 1.0//EN
BEGIN:VEVENT
METHOD:PUBLISH
UID:51993@regionalniportaly.cz
DTSTAMP:20260422T150712Z
DTSTART;VALUE=DATE:20250617
DTEND;VALUE=DATE:20250618
SUMMARY:Networking TEA v Rajhradě s Janou Buchtovou (Lesní harmonie)
DESCRIPTION:Networking Tea: Inspirativní setkání (nejen) pro rodiče s dětmi&nbsp\; ☕👶Chcete vykouknout ze své ulity? Rozšířit své kontakty\, načerpat inspiraci a sdílet zkušenosti v příjemné atmosféře? Pak je Networking Tea právě pro vás!&nbsp\;Navazujeme na úspěšný koncept Networking Coffee Rajhrad a rozšiřujeme ho o setkání vhodná i pro rodiče s dětmi (primárně 0–4 roky). Vítáme ale i účastníky bez doprovodu dětí\, které zajímá téma či host.Host: Janča Buchtová z Lesní harmonie\, která nám představí o čem je Lesní mysl. Má pro malé i velké připravené praktické ukázky\, které se tohoto tématu týkají.Networking začíná v 9:30\, scházet se je možné od 9:00. Pro tento networking by bylo vhodné užít si jej venku. Jakmile budeme znát naše účastníky\, zkonzultujeme s vámi vaše možnosti\, abychom si Lesní mysl mohli všichni užít ku spokojenosti.Program:09:00 - 09:30 - příchod09:30 - 10:00 - představení všech účastníků networkingu10:00 - 11:00 - péče hosta\, Lesní mysl11:00 - 11:30 - volný networking\, rozloučeníV případě velkého zájmu rádi přidáme další termín. Pokud byste měli zájem o odpolední termín\, dejte nám prosím vědět na katka@kavateam.cz nebo telefonicky na 777 668 139.Těší se na vás Kačka Eichi Bilíková\, Lucie Bulová
LOCATION:Rajhrad
END:VEVENT
END:VCALENDAR