BEGIN:VCALENDAR
VERSION:2.0
CALSCALE:GREGORIAN
PRODID:-//MyApp//Calendar 1.0//EN
BEGIN:VEVENT
METHOD:PUBLISH
UID:51989@regionalniportaly.cz
DTSTAMP:20260422T223534Z
DTSTART;VALUE=DATE:20250327
DTEND;VALUE=DATE:20250328
SUMMARY:NETWORKING TEA v Rajhradě s Ing.Pavlou Libenskou (Ateliérek)
DESCRIPTION:Networking Tea: Inspirativní setkání (nejen) pro rodiče s dětmi&nbsp\; ☕👶\, tentokrát přímo v keramické dílně Ateliérek.Chcete vykouknout ze své ulity? Rozšířit své kontakty\, načerpat inspiraci a sdílet zkušenosti v příjemné atmosféře? Pak je Networking Tea právě pro vás!&nbsp\;Navazujeme na úspěšný koncept Networking Coffee Rajhrad a rozšiřujeme ho o setkání vhodná i pro rodiče s dětmi (primárně 0–4 roky). Vítáme ale i účastníky bez doprovodu dětí\, které zajímá téma či host.Březnový host: Ing. Pavla Libenská\, majitelka keramické dílny Ateliérek v Rajhradě\, která s námi posdílí své zkušenosti a seznámí nás se svým ateliérem. Provede nás workshopem na výrobu velikonočních ozdob.Program:09:00 - 09:30 - příchod a neformální představení09:30 - 10:00 - představení účastníků10:00 - 11:00 - workshop s Ing.Pavlou Libeňskou - výroba velikonočních ozdob11:00 - 11:30 - volný networking a loučeníKde:Koná se přímo v Ateliérku\,&nbsp\;Odbojářů 324\, Rajhrad.V případě velkého zájmu rádi přidáme další termín. Pokud byste měli zájem o odpolední termín\, dejte nám prosím vědět na katka@kavateam.cz nebo telefonicky na 777 668 139.Těší se na vás Kačka Eichi Bilíková\, Lucie Bulová
LOCATION:Rajhrad
END:VEVENT
END:VCALENDAR