BEGIN:VCALENDAR
VERSION:2.0
CALSCALE:GREGORIAN
PRODID:-//MyApp//Calendar 1.0//EN
BEGIN:VEVENT
METHOD:PUBLISH
UID:51965@regionalniportaly.cz
DTSTAMP:20260422T222811Z
DTSTART;VALUE=DATE:20250326
DTEND;VALUE=DATE:20250327
SUMMARY:Networking coffee Rajhrad / host Tomáš Hájek
DESCRIPTION:TERMÍN NA PŘIDANOU\, nakonec dopolední - skrz světlo\, protože vás čeká i praktická ukázka!Chcete se potkat v komorní skupině příjemně naladěných lidí?Hledáte nějaký kontakt\, ať už na kominíka\, grafika\, fotografa či pekaře? Pojďme společně rozhodit sítě a zalovit ve vodách nových kontaktů.Nebo se jen chcete inspirovat a nastartovat své podnikání?Přijďte na příjemné setkání s inspirativními lidmi\, kteří chtějí svůj život řídit sami.&nbsp\;Při dobré kávě a bohatém občerstvení.A ať už patříte mezi zkušené networkery nebo to bude vaše premiéra\, přijďte navázat nové kontakty\, sdílet reference\, kontakty\, doporučení\, ale i znalosti a tipy\, jak snadněji a radostněji tvořit i pracovat.Host: Tomáš Hájek - ovládní všechny funkce focení na svém mobiluNetworking začíná v 9:00\, scházet se možné od 8:45.POZOR! Máme nové místo.&nbsp\;Nyní se scházíme v zasedací místnosti L.E.S. Therapy\, kterou najdete v 1. patře budovy LACu na Štefánikově 116. Parkovat lze u Tesca.Program:8:45 - 9:00 - příchod9:00 - 10:00 - představení všech účastníků networkingu10:00 - 11:30 - host networkinguTENTOKRÁT VĚTŠÍ PROSTOR TAKÉ PRO PRAKTICKÉ UKÁZKY11:30 - 12:00 - volný networkingV případě velkého zájmu rádi přidáme další termín. Pokud byste měli zájem o odpolední termín\, dejte nám prosím vědět na katka@kavateam.cz nebo telefonicky na 777 668 139.Těší se na vás Kačka Eichi Bilíková\, Lucie Bulová
LOCATION:Rajhrad
END:VEVENT
END:VCALENDAR