BEGIN:VCALENDAR
VERSION:2.0
CALSCALE:GREGORIAN
PRODID:-//MyApp//Calendar 1.0//EN
BEGIN:VEVENT
METHOD:PUBLISH
UID:51505@regionalniportaly.cz
DTSTAMP:20260422T145856Z
DTSTART;VALUE=DATE:20250314
DTEND;VALUE=DATE:20250315
SUMMARY:Jako z divokých vajec
DESCRIPTION:V Kastilském království se probouzejí temné síly. Pár dní po korunovaci nového krále a královny je uneseno sedm královských mláďat. Jejich jedinou nadějí je mladý doručovatel\, kozel Arthur\, který sní o kariéře světoznámého kadeřníka\, jenže teď se najednou stává nedobrovolným opatrovníkem malých ptáčátek. Pokud chce neposednou drobotinu na cestě domů udržet v bezpečí\, musí nejprve on sám dospět\, objevit svou vlastní minulost a přitom probudit skryté hrdiny. Dokáže Arthur přivést zpět dědice trůnu a zachránit tak království?
LOCATION:Měnín
END:VEVENT
END:VCALENDAR