BEGIN:VCALENDAR
VERSION:2.0
CALSCALE:GREGORIAN
PRODID:-//MyApp//Calendar 1.0//EN
BEGIN:VEVENT
METHOD:PUBLISH
UID:51435@regionalniportaly.cz
DTSTAMP:20260422T181126Z
DTSTART;VALUE=DATE:20250709
DTEND;VALUE=DATE:20250710
SUMMARY:Networking coffee & tea - závěr sezóny / host Jana Buchtová
DESCRIPTION:Networking coffee &amp\; tea má za sebou krásnou sezónu\, kterou společně můžeme zakončit příjemným a posezením s praktickým využítím aromaterapie.Toto inspirativní setkání je určeno i pro rodiče s dětmi&nbsp\; ☕👶Host: Janča Buchtová z Lesní harmonie\, která nám po úspěšném minulém networkingu představí Aromateriapii II. Letní aromaterapie - slunění\, cestovní nevolnosti\, repelenty\, škrábance. To všechno můžete řešit v souladu s přírodou. Na dalším setkání s aromaterapeutkou Janou Buchtovou si povíme\, jak na to.&nbsp\;Vyzkoušíte vůně vhodné do auta na dlouhé cesty. Zaměříme se na otravný hmyz a přírodní odpuzovače. Domů si odnesete malý roll-on 5ml\, který si vyrobíte sami podle svých potřeb (v ceně).&nbsp\;V rámci networkingu si můžete za poplatek vyrobit i další produkty\, které budete chtít:🌿10ml roll-on na štípance » 🪙 Kč 200\,-🌿10ml roll-on na bolístky a odřeniny » 🪙 Kč 200\,-🌿10ml roll-on proti klíšťatům » 🪙 Kč 200\,-🌿Inhalační tyčinka na nevolnosti » 🪙 Kč 100\,-Networking začíná v 9:30\, scházet se je možné od 9:00.Místo bude upřesněno.Program:09:00 - 09:30 - příchod09:30 - 10:00 - představení všech účastníků networkingu10:00 - 11:00 - workshop s Jančou Buchtovou - aromaterapie do kapsy11:00 - 11:30 - volný networking\, rozloučeníTěší se na vás Kačka Eichi Bilíková\, Lucie Bulová
LOCATION:Rajhrad
END:VEVENT
END:VCALENDAR