BEGIN:VCALENDAR
VERSION:2.0
CALSCALE:GREGORIAN
PRODID:-//MyApp//Calendar 1.0//EN
BEGIN:VEVENT
METHOD:PUBLISH
UID:51434@regionalniportaly.cz
DTSTAMP:20260422T181200Z
DTSTART;VALUE=DATE:20250618
DTEND;VALUE=DATE:20250619
SUMMARY:Networking coffee Rajhrad / host Helena Hájková
DESCRIPTION:Chcete se potkat v komorní skupině příjemně naladěných lidí?Hledáte nějaký kontakt\, ať už na kominíka\, grafika\, fotografa či pekaře? Pojďme společně rozhodit sítě a zalovit ve vodách nových kontaktů.Nebo se jen chcete inspirovat a nastartovat své podnikání?Přijďte na příjemné setkání s inspirativními lidmi\, kteří chtějí svůj život řídit sami.&nbsp\;Při dobré kávě a&nbsp\;bohatém občerstvení.A ať už patříte mezi zkušené networkery nebo to bude vaše premiéra\, přijďte navázat nové kontakty\, sdílet reference\, kontakty\, doporučení\, ale i znalosti a tipy\, jak snadněji a radostněji tvořit i pracovat.Host: Helena Hájková - linkedInNetworking začíná v 9:00\, scházet se možné od 8:45.POZOR! ZMĚNA MÍSTA Z DŮVODU ZVÝŠENÍ KAPACITYSejdeme se v sále u kavárny Slunečnice\, Jiráskova 47\, Rajhrad. Příchod je možný již od 8:30. Předpokládaný konec je ve 12:00\, ale jelikož po nás není sál obsazen\, nebudeme muset s odchodem spěchat.Program:08:45&nbsp\;- 09:00 - příchod09:00 - 10:00 - představení všech účastníků networkingu10:00 - 11:00&nbsp\;- host networkingu11:00 - 11:30 - volný networkingV případě velkého zájmu rádi přidáme další termín. Pokud byste měli zájem o odpolední termín\, dejte nám prosím vědět na katka@kavateam.cz nebo telefonicky na 777 668 139.Těší se na vás Kačka Eichi Bilíková\, Lucie Bulová
LOCATION:Rajhrad
END:VEVENT
END:VCALENDAR