BEGIN:VCALENDAR
VERSION:2.0
CALSCALE:GREGORIAN
PRODID:-//MyApp//Calendar 1.0//EN
BEGIN:VEVENT
METHOD:PUBLISH
UID:50908@regionalniportaly.cz
DTSTAMP:20260422T223437Z
DTSTART;VALUE=DATE:20250321
DTEND;VALUE=DATE:20250322
SUMMARY:Jak se nám to mohlo stát!?
DESCRIPTION:Po pětadvaceti letech od legendárních Pelíšků konečně znovu v kinech rozehrají Miroslav Donutil a Bolek Polívka pořádnou komedii. Ve filmu\, který nám ukáže\, že ty největší rozdíly mezi lidmi mohou být zdrojem humoru a inspirace\, se představí také Jitka Čvančarová\, Eva Leinweberová\, Simona Lewandovská\, Jiří Ployhar\, Ondřej Bauer\, Tereza Blažková a Filip Červenka. Děj filmu se točí kolem střetu dvou naprosto odlišných rodin – aristokratických Cimburk-Kolovratníků a skromnějších Novákových\, kteří se setkávají u příležitosti plánované svatby svých dětí. Budoucí nevěsta a ženich při té příležitosti nabídnou svým rodičům testy DNA\, které odhalí jejich skutečný původ. Výsledky jsou naprosto nečekané a zapříčiní efekt bomby.
LOCATION:Měnín
END:VEVENT
END:VCALENDAR