BEGIN:VCALENDAR
VERSION:2.0
CALSCALE:GREGORIAN
PRODID:-//MyApp//Calendar 1.0//EN
BEGIN:VEVENT
METHOD:PUBLISH
UID:48563@regionalniportaly.cz
DTSTAMP:20260422T181110Z
DTSTART;VALUE=DATE:20250109
DTEND;VALUE=DATE:20250110
SUMMARY:Ladislav Zibura – Dvě cesty do džungle
DESCRIPTION:Cestovatelská projekce / stand-up&nbsp\;LADISLAV ZIBURA – DVĚ CESTY DO DŽUNGLECestovat jako za starých časů je dosud možné! Stačí se zápisníkem v ruce usednout na palubu trajektu a vydat se na ty nejzajímavější ze sedmnácti tisíc indonéských ostrovů.Přidejte se k výpravám mladého spisovatele Ladislava Zibury a poznejte s ním jednu z nejrozmanitějších zemí naší planety.&nbsp\;Dozvíte se\, jaké to je putovat tropickým deštným lesem\, pobývat s kmenem lovců a sběračů a dýchat síru pod mocnými vulkány i v dopravních zácpách.A taky se přesvědčíte o tom\, že i svatební cesta může být cestou za svobodou.O AUTOROVI:Ladislav Zibura (*1992 v Českých Budějovicích) je mladý spisovatel a cestovatel. Vydává se do světa\, aby si povídal s lidmi a zjistil\, jak vypadá jejich běžný život. Kromě toho pátrá po lokálních zajímavostech a neobyčejných příbězích.O svých výpravách napsal šest knižních bestsellerů\, za knihu Prázdniny v Evropě dostal Cenu Zikmunda a Hanzelky pro cestopis roku. Mimo psaní Ladislav také objíždí republiku s cestovatelskými projekcemi plnými humoru a zajímavostí. Čtenáři a návštěvníci si Ziburu oblíbili právě pro jeho humor\, pozorovací talent a osobitý šarm.&nbsp\;&nbsp\;Délka vystoupení je 120 minut + přestávka 15 až 20 minut.Vystoupení je vhodné pro všechny ve věku 10 až 99 let.&nbsp\;Těšíme se na vás!&nbsp\;&nbsp\;
LOCATION:Měnín
END:VEVENT
END:VCALENDAR