BEGIN:VCALENDAR
VERSION:2.0
CALSCALE:GREGORIAN
PRODID:-//MyApp//Calendar 1.0//EN
BEGIN:VEVENT
METHOD:PUBLISH
UID:48266@regionalniportaly.cz
DTSTAMP:20260422T061010Z
DTSTART;VALUE=DATE:20250221
DTEND;VALUE=DATE:20250222
SUMMARY:Neřež Trio - koncert
DESCRIPTION:Kdo by neznal písně jako Tisíc dnů mezi námi\, Naruby\, Já s tebou žít nebudu či zhudebněnou Kainarovu báseň Černá voda?&nbsp\;Legendární hudební dvojice Zdeněk Vřešťál &amp\; Vít Sázavský vystoupí\, společně se skvělým multiinstrumentalistou Robertem Fischmannem\, v sestavě Neřež Trio v Hrušovanech u Brna!Repertoár kapely je velice pestrý – těšit se můžete na nejznámější písně původní skupiny Nerez (Já s tebou žít nebudu\, Za poledne\, Černá voda\, Do posledního dechu\, Javor)\, největší hity kapely Neřež (V pořádku\, Nad tebe není\, Podivín) i na novinky z jejich posledních alb v podání Nerez &amp\; Lucia.Akce se bude konat uvnitř společensko-kulturního centra SOKEC\, které se nachází v samém jádru obce Hrušovany u Brna. Občerstvení zajištěno.Vstupné 350 Kč bude možné v&nbsp\;omezeném množství zakoupit i přímo na místě.Těšíme se na Vás.Doprava:Z důvodu uzavírky ulice Masarykovy doporučujeme příjezd po obchvatu obce a následně ulicí Komenského a Masarykovou.Parkování je možno na záchytných parkovištích Masarykova (50m) a Nádražní (500m)
LOCATION:Hrušovany u Brna
END:VEVENT
END:VCALENDAR