BEGIN:VCALENDAR
VERSION:2.0
CALSCALE:GREGORIAN
PRODID:-//MyApp//Calendar 1.0//EN
BEGIN:VEVENT
METHOD:PUBLISH
UID:47422@regionalniportaly.cz
DTSTAMP:20260422T184055Z
DTSTART;VALUE=DATE:20241129
DTEND;VALUE=DATE:20241130
SUMMARY:Odvážná Vaiana 2
DESCRIPTION:Vaiana\, která zcela neočekávané obdrží žádost o pomoc od svých odvážných předků\, se společně s Mauim a zcela novou posádkou vydává na pouť po mořských dálavách Oceánie do nebezpečných a dávno zapomenutých vod\, kde na ni čeká dobrodružství plné nástrah\, s jakými se dosud nikdy nesetkala. Film režíruje Dave Derrick Jr.\, spolurežisérem je Jason Hand a produkují ho Yvett Merino a Christina Chen. Ve snímku Odvážná Vaiana 2 zazní hudba od Abigail Barlow and Emily Bear\, oceněných cenou Grammy\, na tutéž cenu nominovaného Opetaia Foa’i\, a trojnásobného držitele ceny Grammy Marka Manciny.&nbsp\;&nbsp\;ŽÁNR: Animovaný\, RodinnýREŽIE: Dave G. Derrick Jr.\, Jason Hand\, Dana Ledoux MillerPRODUKCE: USA 2024&nbsp\;
LOCATION:Měnín
END:VEVENT
END:VCALENDAR