BEGIN:VCALENDAR
VERSION:2.0
CALSCALE:GREGORIAN
PRODID:-//MyApp//Calendar 1.0//EN
BEGIN:VEVENT
METHOD:PUBLISH
UID:47421@regionalniportaly.cz
DTSTAMP:20260424T195316Z
DTSTART;VALUE=DATE:20241122
DTEND;VALUE=DATE:20241123
SUMMARY:Lee: Fotografka v první linii
DESCRIPTION:Lee Millerová (Kate Winslet) začala svou kariéru jako prominentní modelka\, pohybující se v předních módních kruzích Paříže a New Yorku. V roce 1938 tráví dovolenou na prosluněném jihu Francie se svými nejbližšími přáteli z uměleckých kruhů. Soustředí se již výhradně na svou vlastní práci jako fotografka. Její osudovou láskou se stává anglický obchodník s uměním\, Roland Penrose (Alexander Skarsgard). Hrozba války visí ve vzduchu a téměř přes noc se všechno v jejich každodenním životě zcela změní. Po přestěhování do Londýna Lee odmítá dělat\, co se od žen během války očekává. Místo toho se rozhodne postavit patriarchátu a dokázat nemožné. Samotná se vydává na frontu v Evropě. Jako válečná korespondentka a fotografka pro magazín Vogue se ocitá v první linii nejkrutějších bojů druhé světové války.&nbsp\;Délka filmu: 116 minutŽÁNR: Životopisný\, Drama\, HistorickýHRAJÍ: Kate Winslet\, Alexander Skarsgĺrd\, Andrea Riseborough\, Marion Cotillard\, Josh O'Connor\, Andy Samberg\, Noémie Merlant\, James Murray\, Samuel BarnettREŽIE: Ellen KurasPRODUKCE: GB/USA/NO 2024VĚKOVÁ HRANICE: 15+
LOCATION:Měnín
END:VEVENT
END:VCALENDAR