BEGIN:VCALENDAR
VERSION:2.0
CALSCALE:GREGORIAN
PRODID:-//MyApp//Calendar 1.0//EN
BEGIN:VEVENT
METHOD:PUBLISH
UID:45976@regionalniportaly.cz
DTSTAMP:20260422T180957Z
DTSTART;VALUE=DATE:20240920
DTEND;VALUE=DATE:20240921
SUMMARY:Vlny
DESCRIPTION:
LOCATION:Měnín
END:VEVENT
END:VCALENDAR