BEGIN:VCALENDAR
VERSION:2.0
CALSCALE:GREGORIAN
PRODID:-//MyApp//Calendar 1.0//EN
BEGIN:VEVENT
METHOD:PUBLISH
UID:45327@regionalniportaly.cz
DTSTAMP:20260422T202147Z
DTSTART;VALUE=DATE:20240913
DTEND;VALUE=DATE:20240914
SUMMARY:Zápisník alkoholičky
DESCRIPTION:
LOCATION:Měnín
END:VEVENT
END:VCALENDAR