BEGIN:VCALENDAR
VERSION:2.0
CALSCALE:GREGORIAN
PRODID:-//MyApp//Calendar 1.0//EN
BEGIN:VEVENT
METHOD:PUBLISH
UID:44676@regionalniportaly.cz
DTSTAMP:20260422T221019Z
DTSTART;VALUE=DATE:20240911
DTEND;VALUE=DATE:20240912
SUMMARY:Aleš Svoboda - Legendy a tajemství brněnského podzemí
DESCRIPTION:.... přednáška bude věnována zajímavostem a legendám z podzemí ze všech částí a druhů podzemí v Brně.
LOCATION:Měnín
END:VEVENT
END:VCALENDAR