BEGIN:VCALENDAR
VERSION:2.0
CALSCALE:GREGORIAN
PRODID:-//MyApp//Calendar 1.0//EN
BEGIN:VEVENT
METHOD:PUBLISH
UID:43971@regionalniportaly.cz
DTSTAMP:20260422T202100Z
DTSTART;VALUE=DATE:20240724
DTEND;VALUE=DATE:20240725
SUMMARY:Networking coffee v Rajhradě u Brna v Lístek.Kafé
DESCRIPTION:Pojďme společně rozhodit své sítě a zalovit ve vodách nekonečných kontaktů a možností. Setkejme se při dobré kávě a jiných dobrotách v nové kavárně Lístek.Kafé v Rajhradě u Brna.&nbsp\; Ať už hledáte konkrétní kontakty nebo jen inspiraci\, věříme\, že toto komorní networkingové setkání pro vás může být velkou inspirací a přínosem. A stejně tak i vy obohatíte toto setkání svou účastí.Ať už patříte mezi zkušené networkery nebo se jedná spíše o vaši premiéru\, přijďte navázat nové kontakty\, sdílet reference\, kontakty\, doporučení\, ale i znalosti a tipy\, jak snadněji a radostněji tvořit i pracovat.&nbsp\;Jak bude networkingové setkání probíhat?Jednou měsíčně se setkáme nad kávou s tématem\, který bude mít i svého hosta.&nbsp\;Networking začíná v 9:00\, scházet se v kavárně je možné od 8:30.Červencovým hostem je Veronika Grobelná\, majitelka Lístek.Kafe a Dana Kučerová\, celostní masérka.Program:od 8:30 Volný příchod\, poklidné objednání kávy9:00 - 9:45 Představení všech účastníků9:45 - 10:00 Pauza a prostor pro první výměnu kontaktů10:00 - 10:45 Hlavní program10:45 - 11:00 Networking či meeting 1:1\, pokud vás na setkání někdo natolik zaujme\, máte i prostor jít do hlubší debatyV případě velkého zájmu rádi přidáme další termín.Akci ve spolupráci s Lístek.Kafé pořádá KAVA.TEAM a RajHRADhry.Těší se na vás Kačka Eichi Bilíková a Lucie Bulová
LOCATION:Rajhrad
END:VEVENT
END:VCALENDAR