BEGIN:VCALENDAR
VERSION:2.0
CALSCALE:GREGORIAN
PRODID:-//MyApp//Calendar 1.0//EN
BEGIN:VEVENT
METHOD:PUBLISH
UID:43520@regionalniportaly.cz
DTSTAMP:20260422T220147Z
DTSTART;VALUE=DATE:20240817
DTEND;VALUE=DATE:20240818
SUMMARY:Matka v trapu - Letní kino
DESCRIPTION:
LOCATION:Měnín
END:VEVENT
END:VCALENDAR