BEGIN:VCALENDAR
VERSION:2.0
CALSCALE:GREGORIAN
PRODID:-//MyApp//Calendar 1.0//EN
BEGIN:VEVENT
METHOD:PUBLISH
UID:43519@regionalniportaly.cz
DTSTAMP:20260422T234938Z
DTSTART;VALUE=DATE:20240814
DTEND;VALUE=DATE:20240815
SUMMARY:Bratři - Letní kino
DESCRIPTION:
LOCATION:Měnín
END:VEVENT
END:VCALENDAR