BEGIN:VCALENDAR
VERSION:2.0
CALSCALE:GREGORIAN
PRODID:-//MyApp//Calendar 1.0//EN
BEGIN:VEVENT
METHOD:PUBLISH
UID:41590@regionalniportaly.cz
DTSTAMP:20260424T130127Z
DTSTART;VALUE=DATE:20240515
DTEND;VALUE=DATE:20240516
SUMMARY:Networking coffee v Rajhradě u Brna v Lístek.Kafé
DESCRIPTION:Pojďme společně rozhodit své sítě a zalovit ve vodách nekonečných kontaktů a možností. Setkejme se při dobré kávě a jiných dobrotách v nové kavárně Lístek.Kafé v Rajhradě u Brna.&nbsp\; Ať už hledáte konkrétní kontakty nebo jen inspiraci\, věříme\, že toto komorní networkingové setkání pro vás může být velkou inspirací a přínosem. A stejně tak i vy obohatíte toto setkání svou účastí.Ať už patříte mezi zkušené networkery nebo se jedná spíše o vaši premiéru\, přijďte navázat nové kontakty\, sdílet reference\, kontakty\, doporučení\, ale i znalosti a tipy\, jak snadněji a radostněji tvořit i pracovat.&nbsp\;Jak bude networkingové setkání probíhat?Jednou měsíčně\, vždy ve středu 8:30 - 10:30 hodin\, se setkáme nad kávou s tématem\, který bude mít i svého hosta.&nbsp\;Květnového vzdělávacího vstupu se ujme Kačka Eichi Bilíková\, která se zaměří na téma práce s myšlenkovými mapami včetně praktické ukázky.Jednatelka společnosti KAVA TEAM\, pracující maminka dvou dětí\, influencerka a nejen kávová průvodkyně\, které myšlenkové mapy pomáhají dnes a denně najít sever v každodenních úkolech i dlouhodobých cílech. Zajímá vás\, jestli by mohly myšlenkové mapy být nápomocné i vám? Nenechte si ujít právě toto networkingové setkání.Program:od 8:00 Volný příchod\, poklidné objednání kávy8:30 - 10:00 Hlavní program10:00 - 10:30 Networking či meeting 1:1\, pokud vás na setkání někdo natolik zaujme\, máte i prostor jít do hlubší debatyV případě velkého zájmu rádi přidáme další termín.Akci ve spolupráci s Lístek.Kafé pořádá KAVA.TEAM a RajHRADhry.Těší se na vás Kačka Eichi Bilíková a Lucie Bulová
LOCATION:Rajhrad
END:VEVENT
END:VCALENDAR