BEGIN:VCALENDAR
VERSION:2.0
CALSCALE:GREGORIAN
PRODID:-//MyApp//Calendar 1.0//EN
BEGIN:VEVENT
METHOD:PUBLISH
UID:40732@regionalniportaly.cz
DTSTAMP:20260422T144642Z
DTSTART;VALUE=DATE:20240317
DTEND;VALUE=DATE:20240318
SUMMARY:Kung Fu Panda 4
DESCRIPTION:
LOCATION:Měnín
END:VEVENT
END:VCALENDAR