BEGIN:VCALENDAR
VERSION:2.0
CALSCALE:GREGORIAN
PRODID:-//MyApp//Calendar 1.0//EN
BEGIN:VEVENT
METHOD:PUBLISH
UID:39594@regionalniportaly.cz
DTSTAMP:20260422T101126Z
DTSTART;VALUE=DATE:20240302
DTEND;VALUE=DATE:20240303
SUMMARY:DJ Boris DISCO - RAJHRAD
DESCRIPTION:Legendární akce DJ Boris&nbsp\;znovu v Rajhradě\, ve spolupráci s Magic Events&nbsp\;Koná se v sobotu 2. března 2024 od 20:00 hod. v Sokolovně Rajhrad.&nbsp\;Po celou noc hity současné i minulé v originálních verzích\, které zaručeně znáte a které Vám jinde nezahrají&nbsp\;Hudba různých žánrů - DISCO\, POP\, ROCK\, ČESKÉ a SLOVENSKÉ\, OSMDESÁTKY\, DEVADESÁTKY\, OLDIES...Zajištěno bohaté občerstvení včetně točeného piva a míchaných drinků.Kvalitní zvuk a světla\, laser show.Otevřeno od 20:00 hod.Minimální věkový limit pro vstup: 16 let
LOCATION:Rajhrad
END:VEVENT
END:VCALENDAR