BEGIN:VCALENDAR
VERSION:2.0
CALSCALE:GREGORIAN
PRODID:-//MyApp//Calendar 1.0//EN
BEGIN:VEVENT
METHOD:PUBLISH
UID:39232@regionalniportaly.cz
DTSTAMP:20260422T144249Z
DTSTART;VALUE=DATE:20240316
DTEND;VALUE=DATE:20240317
SUMMARY:Chudáčci
DESCRIPTION:
LOCATION:Měnín
END:VEVENT
END:VCALENDAR