BEGIN:VCALENDAR
VERSION:2.0
CALSCALE:GREGORIAN
PRODID:-//MyApp//Calendar 1.0//EN
BEGIN:VEVENT
METHOD:PUBLISH
UID:39168@regionalniportaly.cz
DTSTAMP:20260422T145742Z
DTSTART;VALUE=DATE:20240301
DTEND;VALUE=DATE:20240302
SUMMARY:Duna: Část druhá
DESCRIPTION:Duna: Část druhá je připravovaný americký sci-fi film režiséra Denise Villeneuva z roku 2024. Scénář k filmu napsali Villeneuve a Jon Spaihts. Jedná se o sequel k filmu Duna a druhou z dvoudílné adaptace románu Duna spisovatele Franka Herberta z roku 1965.
LOCATION:Měnín
END:VEVENT
END:VCALENDAR