BEGIN:VCALENDAR
VERSION:2.0
CALSCALE:GREGORIAN
PRODID:-//MyApp//Calendar 1.0//EN
BEGIN:VEVENT
METHOD:PUBLISH
UID:38544@regionalniportaly.cz
DTSTAMP:20260422T083619Z
DTSTART;VALUE=DATE:20240308
DTEND;VALUE=DATE:20240309
SUMMARY:A máme\, co jsme chtěli
DESCRIPTION:
LOCATION:Měnín
END:VEVENT
END:VCALENDAR