BEGIN:VCALENDAR
VERSION:2.0
CALSCALE:GREGORIAN
PRODID:-//MyApp//Calendar 1.0//EN
BEGIN:VEVENT
METHOD:PUBLISH
UID:38543@regionalniportaly.cz
DTSTAMP:20260422T104234Z
DTSTART;VALUE=DATE:20240329
DTEND;VALUE=DATE:20240330
SUMMARY:Gump - jsme dvojka
DESCRIPTION:
LOCATION:Měnín
END:VEVENT
END:VCALENDAR