BEGIN:VCALENDAR
VERSION:2.0
CALSCALE:GREGORIAN
PRODID:-//MyApp//Calendar 1.0//EN
BEGIN:VEVENT
METHOD:PUBLISH
UID:38539@regionalniportaly.cz
DTSTAMP:20260422T162847Z
DTSTART;VALUE=DATE:20240223
DTEND;VALUE=DATE:20240224
SUMMARY:Aristokratka ve varu
DESCRIPTION:
LOCATION:Měnín
END:VEVENT
END:VCALENDAR