BEGIN:VCALENDAR
VERSION:2.0
CALSCALE:GREGORIAN
PRODID:-//MyApp//Calendar 1.0//EN
BEGIN:VEVENT
METHOD:PUBLISH
UID:38536@regionalniportaly.cz
DTSTAMP:20260422T104208Z
DTSTART;VALUE=DATE:20240202
DTEND;VALUE=DATE:20240203
SUMMARY:Nerozlučná dvojka
DESCRIPTION:
LOCATION:Měnín
END:VEVENT
END:VCALENDAR