BEGIN:VCALENDAR
VERSION:2.0
CALSCALE:GREGORIAN
PRODID:-//MyApp//Calendar 1.0//EN
BEGIN:VEVENT
METHOD:PUBLISH
UID:34289@regionalniportaly.cz
DTSTAMP:20260422T064921Z
DTSTART;VALUE=DATE:20231006
DTEND;VALUE=DATE:20231007
SUMMARY:Afrika s Tomíkem
DESCRIPTION:Cestovatelská stand-upJAR\, BOTSWANA\, ZAMBIA\, ZIMBABWE\, MALAWI\, TANZANIE A UGANDA a věřte\, že bude SRANDA!Tomáš Vejmola se vydal na další NEUVĚŘITELNOU cestu po východní Africe a to opět s tuktukem a s kameramanem Davidem Žváčkem! Převážně veselé a kolikrát až neuvěřitelné příběhy vám Tomík společně s Davidem barvitě povypráví a promítnou na plátně v podobě fotografií a videí\, které na 111 dní dlouhé cestě posbírali.Určené pro všechny\, kdo se chce zasmát a nechce cestovat s tuktukem po světě!_________________Tomáš Vejmola je mladý cestovatel\, který se rozhodl brázdit svět s úsměvem na tváři a nejlépe v sedle tuktuku. Pouští se do náročných expedic\, které garantují silné až dechberoucí zážitky\, ale i veselé historky\, u kterých se od srdce zasmějete.Když zrovna necestuje po světě s tříkolkou\, tak dělá průvodce Maroku\, či Gruzii nebo cestuje po České republice\, kde v knihovnách\, kinech\, ve školách i na festivalech vypráví o svých cestách.Krom toho napsal z cest dvě knížky a natočil cestopis Z Hranic okolo hranic\, který běží na TV Prima Zoom!
LOCATION:Měnín
END:VEVENT
END:VCALENDAR