BEGIN:VCALENDAR
VERSION:2.0
CALSCALE:GREGORIAN
PRODID:-//MyApp//Calendar 1.0//EN
BEGIN:VEVENT
METHOD:PUBLISH
UID:33785@regionalniportaly.cz
DTSTAMP:20260421T142606Z
DTSTART;VALUE=DATE:20230902
DTEND;VALUE=DATE:20230903
SUMMARY:Letní festival vína Němčičky - otevřené sklepy
DESCRIPTION:Srdečně Vás zveme na největší slavnost v Němčičkách v sobotu 2. záží&nbsp\;od 10:00 hodin na otevřené sklepy vinařů s jejich skvělými víny a pochutinami\, následně si nenechte ujít Burčákovou zábavu na místním koupališti.Program: 2. 9. 2023&nbsp\;– Otevřené sklepy10.00 – 19.00 hod. -&nbsp\;Otevřené sklepy vinařů s bohatou nabídkou specialit nejen k zakousnutí.Vína je možné zakoupit i v neděli 3.9.2023&nbsp\;v čase od 10.00 do 12.00 hodin.VSTUPENKA NA OTEVŘENÉ SKLEPY:Zakoupením vstupenky v předprodeji ušetříte 100\,-Kč.Výhodná cena v předprodeji je 700\,-Kč.Cena vstupenky na místě bude 800\,-Kč.Vstupenka obsahuje: neomezenou degustaci během otevřených sklepů\, sklenička\, kapsička na skleničku\, mapka\, propiska\, 200\,-Kč kupón na jídlo či víno.VÝDEJ VSTUPENEKVýdej online zakoupených vstupenek bude probíhat\, v den akce 2. 9. 2023\, na dvou místech:JLT Rodinné vinařství Procházkovi\, Němčičky 266\, od 10hodvinařství Kryprowine\, Němčičky 9\, od 10hod.Program pokračuje večerní burčákovou zábavou na místním koupališti s půlnoční neckyádou.Příjďte zažít jedinečnou atmosféru\, těšíme se na Vás!
LOCATION:Němčičky
END:VEVENT
END:VCALENDAR