BEGIN:VCALENDAR
VERSION:2.0
CALSCALE:GREGORIAN
PRODID:-//MyApp//Calendar 1.0//EN
BEGIN:VEVENT
METHOD:PUBLISH
UID:33783@regionalniportaly.cz
DTSTAMP:20260422T145846Z
DTSTART;VALUE=DATE:20230721
DTEND;VALUE=DATE:20230722
SUMMARY:Top Gun: Maverick - Letní kino
DESCRIPTION:Pete „Maverick“ Mitchell (Tom Cruise) k&nbsp\;smrti rád pilotuje stíhačky. Dokonce tak\, že se už přes třicet let úspěšně brání povýšení ve strukturách amerického letectva\, protože to by ho z&nbsp\;kokpitu vyhnalo do vyhřáté kanceláře. Maverick byl navíc vždycky magnetem na průšvihy\, což se s&nbsp\;armádní kariérou taky docela vylučuje. Pilot je ovšem bravurní\, možná ten úplně nejlepší\, a proto dostane nabídku stát se instruktorem elitních stíhačů z&nbsp\;programu Top Gun\, které má připravit na úkol\, jenž spadá do kategorie Mission Imposssible. Kromě téhle bude muset Maverick zvládnout i jednu obtížnou soukromou misi. Jedním z&nbsp\;pilotů\, které má připravit do akce\, je i Bradley Bradshaw (Miles Teller)\, syn jeho kamaráda a navigátora Goose. Znalci prvního&nbsp\;Top Gunu&nbsp\;vědí\, že Goose zahynul\, když se neúspěšně katapultoval z&nbsp\;neovladatelné stíhačky\, pilotované právě Maverickem. A jeho syn mu otcovu smrt klade za vinu. Maverick za žádnou cenu nechce\, aby Bradleyho potkal stejný osud jako jeho otce. Přitom si uvědomuje\, že pravděpodobnost\, že některý z&nbsp\;pilotů plánovanou leteckou operaci nepřežije\, není vůbec malá.
LOCATION:Otmarov
END:VEVENT
END:VCALENDAR