BEGIN:VCALENDAR
VERSION:2.0
CALSCALE:GREGORIAN
PRODID:-//MyApp//Calendar 1.0//EN
BEGIN:VEVENT
METHOD:PUBLISH
UID:33738@regionalniportaly.cz
DTSTAMP:20260422T081323Z
DTSTART;VALUE=DATE:20230812
DTEND;VALUE=DATE:20230813
SUMMARY:Nikdy neříkej nikdy
DESCRIPTION:
LOCATION:Měnín
END:VEVENT
END:VCALENDAR