BEGIN:VCALENDAR
VERSION:2.0
CALSCALE:GREGORIAN
PRODID:-//MyApp//Calendar 1.0//EN
BEGIN:VEVENT
METHOD:PUBLISH
UID:33736@regionalniportaly.cz
DTSTAMP:20260421T135717Z
DTSTART;VALUE=DATE:20230810
DTEND;VALUE=DATE:20230811
SUMMARY:Jízda - Letní kino
DESCRIPTION:Kultovní film Jana Svěráka s hudbou skupiny Buty.https://www.csfd.cz/film/8804-jizda/prehled/
LOCATION:Měnín
END:VEVENT
END:VCALENDAR